0.1
0
0
-0.1
570193.062557401
4702788.89262409
