0.1
0
0
-0.1
570198.910396071
4702210.59567894
