0.1
0
0
-0.1
571055.277014184
4702219.43172551
