0.1
0
0
-0.1
568497.584418247
4701036.96316659
