0.1
0
0
-0.1
569354.094495796
4701045.37822462
