0.1
0
0
-0.1
567646.706695304
4700450.25395909
