0.1
0
0
-0.1
569365.639588409
4699888.78927739
