0.1
0
0
-0.1
567657.975712008
4699293.66750726
