0.1
0
0
-0.1
572780.141693384
4701080.5168306
