0.1
0
0
-0.1
570228.140250046
4699319.1220612
