0.1
0
0
-0.1
568520.406095523
4698723.79306675
