0.1
0
0
-0.1
568526.116801668
4698145.50327322
