0.1
0
0
-0.1
570245.695480793
4697584.25351601
