0.1
0
0
-0.1
570251.54806161
4697005.96432985
