0.1
0
0
-0.1
651649.559477955
4738229.08702142
