0.1
0
0
-0.1
653353.784686536
4738267.00208851
