0.1
0
0
-0.1
655949.502490695
4736589.52552838
