0.1
0
0
-0.1
655110.212801659
4735991.82986914
