0.1
0
0
-0.1
658533.189926729
4735491.20548903
