0.1
0
0
-0.1
659385.675342548
4735511.00507921
