0.1
0
0
-0.1
653444.088329666
4734218.73652671
