0.1
0
0
-0.1
659425.916745457
4733776.03477935
