0.1
0
0
-0.1
616083.960825917
4724230.72421623
