0.1
0
0
-0.1
615268.817330648
4721903.07889674
