0.1
0
0
-0.1
601179.503113254
4692182.05438071
