0.1
0
0
-0.1
602062.563289323
4690459.79866296
