0.1
0
0
-0.1
600363.470240388
4689278.19775435
