0.1
0
0
-0.1
598655.639728673
4688675.51865418
