0.1
0
0
-0.1
603804.119157925
4688750.15360889
