0.1
0
0
-0.1
599530.215889286
4687531.13534226
