0.1
0
0
-0.1
599538.463024124
4686952.84673524
