0.1
0
0
-0.1
639989.61374892
4724674.75175495
