0.1
0
0
-0.1
640866.980145109
4723535.33614269
