0.1
0
0
-0.1
641720.905561586
4723552.83302362
