0.1
0
0
-0.1
589194.614179494
4690283.12674717
