0.1
0
0
-0.1
590052.476014305
4690294.07538019
