0.1
0
0
-0.1
587493.398451828
4689104.66640889
