0.1
0
0
-0.1
591775.818225471
4689738.30920001
