0.1
0
0
-0.1
592649.118499209
4688593.09716431
