0.1
0
0
-0.1
590940.499911804
4687992.09187552
