0.1
0
0
-0.1
590097.280784972
4686824.3668444
