0.1
0
0
-0.1
636654.494432374
4720557.85598495
