0.1
0
0
-0.1
639217.345567249
4720609.04304593
