0.1
0
0
-0.1
639240.630003747
4719452.36362731
