0.1
0
0
-0.1
640973.04657983
4718330.21880812
