0.1
0
0
-0.1
640165.298644265
4715999.56759951
