0.1
0
0
-0.1
620845.36240347
4695966.10861099
