0.1
0
0
-0.1
659954.544247975
4747675.75267753
