0.1
0
0
-0.1
661642.76454939
4748293.90912662
