0.1
0
0
-0.1
649806.543510765
4744553.42060667
